BEGIN:VCALENDAR
PRODID:-//eluceo/ical//2.0/EN
VERSION:2.0
CALSCALE:GREGORIAN
BEGIN:VEVENT
UID:ca003ac6edf4d6f3a595477ca26fa817
DTSTAMP:20260422T101555Z
SUMMARY:Mosaic Trivets - The Ladies Lounge
DESCRIPTION:Charleston Jewish Federation\nJewish Community Calendar\nhttps:
 //jewishcharleston.org/event-calendar/mosaic-trivets---the-ladies-lounge-1
 692131306\n\nAdd festive decor to your holiday table with the Jewish Ladie
 s of Charleston! \n$18 RSVP on Facebook: https://tinyurl.com/Ladiesloungem
 osaics
DTSTART;TZID=America/New_York:20230823T190000
DTEND;TZID=America/New_York:20230823T213000
END:VEVENT
END:VCALENDAR
