BEGIN:VCALENDAR
PRODID:-//eluceo/ical//2.0/EN
VERSION:2.0
CALSCALE:GREGORIAN
BEGIN:VEVENT
UID:263ec4926f2b6c0a094fd9808c97795a
DTSTAMP:20260424T065736Z
SUMMARY:Mini Movie Night
DESCRIPTION:Charleston Jewish Federation\nJewish Community Calendar\nhttps:
 //jewishcharleston.org/event-calendar/mini-movie-night-1706029749\n\nJoin 
 us Motzei Shabbos for a Movie at the Dor Tikvah Youth Home on the Projecto
 r Screen! Snacks and Refreshments Provided!
DTSTART;TZID=America/New_York:20240210T190000
DTEND;TZID=America/New_York:20240210T212000
END:VEVENT
END:VCALENDAR
