BEGIN:VCALENDAR
PRODID:-//eluceo/ical//2.0/EN
VERSION:2.0
CALSCALE:GREGORIAN
BEGIN:VEVENT
UID:c02716ac00daf0fdd18aef36f2f10771
DTSTAMP:20260421T112018Z
SUMMARY:Men's Night Out at Dor Tikvah
DESCRIPTION:Charleston Jewish Federation\nJewish Community Calendar\nhttps:
 //jewishcharleston.org/event-calendar/mens-night-out-at-dor-tikvah-1688667
 069\n\nMen of the Jewish community are invited to join us for an upscale d
 inner! More details and ticket purchases to come at dortikvah.org
DTSTART;TZID=America/New_York:20231024T183000
DTEND;TZID=America/New_York:20231024T213000
END:VEVENT
END:VCALENDAR
