BEGIN:VCALENDAR
PRODID:-//eluceo/ical//2.0/EN
VERSION:2.0
CALSCALE:GREGORIAN
BEGIN:VEVENT
UID:041210a226b6408beb2d93dfd4fddaf0
DTSTAMP:20260421T101018Z
SUMMARY:Lushington Lost and Found: Charleston’s Quaker Commander Comes Ho
 me
DESCRIPTION:Charleston Jewish Federation\nJewish Community Calendar\nhttps:
 //jewishcharleston.org/event-calendar/lushington-lost-and-found-charleston
 s-quaker-commander-comes-home-1694718045\n\nJoin George H. McDaniel\, hist
 orian at SC Battleground Preservation Trust\, and Ashley Walters\, directo
 r of the Pearlstein/Lipov Center for the Study of Southern Jewish Culture\
 , as they discuss the significance of Richard Lushington to Charleston’s
  history\, his connection to Jewish history through his unique militia uni
 t\, and the world of Revolutionary Charles Town which brought them all tog
 ether.  \n\nSpeaker Bio: George H. McDaniel grew up in Summerville and has
  spent most of his life here...
DTSTART;TZID=America/New_York:20231105T100000
DTEND;TZID=America/New_York:20231105T110000
END:VEVENT
END:VCALENDAR
