BEGIN:VCALENDAR
PRODID:-//eluceo/ical//2.0/EN
VERSION:2.0
CALSCALE:GREGORIAN
BEGIN:VEVENT
UID:9e2d6100e7610806843377ecf9b8e196
DTSTAMP:20260421T103830Z
SUMMARY:Lowcountry NOSH: Charleston Jewish Food & Heritage Festival
DESCRIPTION:Charleston Jewish Federation\nJewish Community Calendar\nhttps:
 //jewishcharleston.org/event-calendar/lowcountry-nosh-charleston-jewish-fo
 od--heritage-festival-1683297718\n\nNow in its 9th year\, the Nosh is inte
 nded to attract the entire Charleston community and encourage people to ex
 perience Jewish food\, music and culture and to learn about KKBE’s rich 
 history and unique contributions to Reform Judaism as they wander down Has
 ell Street (on which traffic is reserved for pedestrians only). The Nosh f
 eatures a kid’s zone\, designed to provide enriching activities for youn
 ger participants. Food options\, purchased with cash or credit card\, will
  include New York ko...
DTSTART;TZID=America/New_York:20231112T120000
DTEND;TZID=America/New_York:20231112T160000
END:VEVENT
END:VCALENDAR
