BEGIN:VCALENDAR
PRODID:-//eluceo/ical//2.0/EN
VERSION:2.0
CALSCALE:GREGORIAN
BEGIN:VEVENT
UID:e6ff2ab5d2c147e72a3726366e89fd55
DTSTAMP:20260420T035938Z
SUMMARY:Lights and Latkes with Young Jewish Charleston 2023
DESCRIPTION:Charleston Jewish Federation\nJewish Community Calendar\nhttps:
 //jewishcharleston.org/event-calendar/lights-and-latkes-with-young-jewish-
 charleston2023\n\nJoin Young Jewish Charleston for an unforgettable evenin
 g of joy and celebration at our 3rd annual "Lights and Latkes\," a specta
 cular Hanukkah party specially crafted for Jewish friends in their 20s and
  30s. Set against the relaxing backdrop of The Tides on Folly Beach\, this
  event promises a fun and lively atmosphere to usher in the Festival of Li
 ghts\n\n\nWhen? December 9\, 7-10 pm \nWhere? The Tides on Folly Beach \
 nDress code? Dress to impress in your fanciest threads or showcase you...
DTSTART;TZID=America/New_York:20231209T190000
DTEND;TZID=America/New_York:20231209T230000
END:VEVENT
END:VCALENDAR
