BEGIN:VCALENDAR
PRODID:-//eluceo/ical//2.0/EN
VERSION:2.0
CALSCALE:GREGORIAN
BEGIN:VEVENT
UID:3dec6231fe60af97f172e47e66508cf7
DTSTAMP:20260420T022734Z
SUMMARY:Light Up the Night: Glow in the Dark Chanukah
DESCRIPTION:Charleston Jewish Federation\nJewish Community Calendar\nhttps:
 //jewishcharleston.org/event-calendar/light-up-the-night-glow-in-the-dark-
 chanukah-1697559441\n\nGo to dortikvah.org/events for up-to-date informati
 on
DTSTART;TZID=America/New_York:20231209T190000
DTEND;TZID=America/New_York:20231209T203000
END:VEVENT
END:VCALENDAR
