BEGIN:VCALENDAR
PRODID:-//eluceo/ical//2.0/EN
VERSION:2.0
CALSCALE:GREGORIAN
BEGIN:VEVENT
UID:80cbf33eab23bcf38c4ecbda7076c758
DTSTAMP:20260425T165830Z
SUMMARY:Lifelong Learning Speaker Andrew Feiler: Rosenwald Schools
DESCRIPTION:Charleston Jewish Federation\nJewish Community Calendar\nhttps:
 //jewishcharleston.org/event-calendar/lifelong-learning-speaker-andrew-fei
 ler-rosenwald-schools-1675794166\n\nJoin us on Wednesday\, February 15th a
 t 7:00 p.m. for a talk and photographic presentation on Rosenwald Schools 
 by Andrew Feiler. This event is in-person at KKBE and will also be streami
 ng on Zoom. The Zoom link will be provided upon registration. Born to Jewi
 sh immigrants\, Julius Rosenwald rose to lead Sears\, Roebuck & Company an
 d turn it into the world’s largest retailer of its era. Born into slaver
 y\, Booker T. Washington became the founding principal of Tuskegee Institu
 te. In 1912 the two...
DTSTART;TZID=America/New_York:20230215T190000
DTEND;TZID=America/New_York:20230215T210000
END:VEVENT
END:VCALENDAR
