BEGIN:VCALENDAR
PRODID:-//eluceo/ical//2.0/EN
VERSION:2.0
CALSCALE:GREGORIAN
BEGIN:VEVENT
UID:5ac700b812ac4e0b0477949aaf98f6f2
DTSTAMP:20260423T184631Z
SUMMARY:Lifelong Learning at KKBE: "Schools of Hope" with Dr. Alan Nussbaum
DESCRIPTION:Charleston Jewish Federation\nJewish Community Calendar\nhttps:
 //jewishcharleston.org/event-calendar/lifelong-learning-at-kkbe-schools-of
 -hope-with-dr-alan-nussbaum-1696430516\n\nJulius Rosenwald’s life was fo
 rever changed when he met Booker T. Washington\, the well known black educ
 ator. Washington introduced the president of Sears and Roebuck and Company
  to the deplorable conditions of African American schools in the South. In
  just twenty years\, Rosenwald helped to financially support the building 
 of more than 5\,300 well- designed and better equipped Southern schools.Dr
 . Alan Nussbaum is a Charleston native who spent many years in the KKBE Re
 ligious School and was a...
DTSTART;TZID=America/New_York:20231012T190000
DTEND;TZID=America/New_York:20231012T200000
END:VEVENT
END:VCALENDAR
