BEGIN:VCALENDAR
PRODID:-//eluceo/ical//2.0/EN
VERSION:2.0
CALSCALE:GREGORIAN
BEGIN:VEVENT
UID:3640a69d23a8ef0af28d5251a5a1c47e
DTSTAMP:20260421T093940Z
SUMMARY:Lifelong Learning at KKBE: "Leading Meaningful Worship"
DESCRIPTION:Charleston Jewish Federation\nJewish Community Calendar\nhttps:
 //jewishcharleston.org/event-calendar/lifelong-learning-at-kkbe-leading-me
 aningful-worship-1696430808\n\nWith Rabbi Stephanie AlexanderOver the past
  two decades\, the Reform Movement has produced a series of prayer books t
 hat offer theological diversity\, gender inclusivity\, and greater languag
 e accessibility. Their myriad of offerings make for varied and meaningful 
 services – as well as potential headaches for service leaders\, professi
 onal and lay alike. With the endless combination of prayers to choose from
 \, how not to become overwhelmed? Using our most recent Shiva prayer book 
 as our text\, th...
DTSTART;TZID=America/New_York:20231019T190000
DTEND;TZID=America/New_York:20231019T200000
END:VEVENT
END:VCALENDAR
