BEGIN:VCALENDAR
PRODID:-//eluceo/ical//2.0/EN
VERSION:2.0
CALSCALE:GREGORIAN
BEGIN:VEVENT
UID:4bf9f6ef9b5ed734943051d175332428
DTSTAMP:20260425T114251Z
SUMMARY:Lifelong Learning at KKBE
DESCRIPTION:Charleston Jewish Federation\nJewish Community Calendar\nhttps:
 //jewishcharleston.org/event-calendar/lifelong-learning-at-kkbe-1696431190
 \n\n“IRAC’s Struggle to Protect Israel’s Democracy in the Name of Ju
 daism” with Orly Erez-Likhovsky. Orly Erez-Likhovski graduated from the 
 Faculty of Law at Tel Aviv University. After clerking at the Israeli Supre
 me Court\, she studied for a Masters degree in Law at Columbia University\
 , New York\, focusing on human rights. Orly is a member of both the Israel
 i and the New York bar. Orly has been working as an attorney at the Israel
  Religious Action Center of the Reform Movement in Israel si...
DTSTART;TZID=America/New_York:20231130T110000
DTEND;TZID=America/New_York:20231130T120000
END:VEVENT
END:VCALENDAR
