BEGIN:VCALENDAR
PRODID:-//eluceo/ical//2.0/EN
VERSION:2.0
CALSCALE:GREGORIAN
BEGIN:VEVENT
UID:80b3bb7c0db6e41b9d68ea3b6af04386
DTSTAMP:20260422T044049Z
SUMMARY:Lifelong Learning at KKBE
DESCRIPTION:Charleston Jewish Federation\nJewish Community Calendar\nhttps:
 //jewishcharleston.org/event-calendar/lifelong-learning-at-kkbe-1696431081
 \n\nFor more than 300 years Jewish people have made their homes in South C
 arolina. Welcomed as traders and merchants\, they settled first in Charles
 ton\, Georgetown\, and Beaufort\, but soon looked beyond the port cities f
 or opportunities to sell goods and set up shop. Launched in 2016 by the Je
 wish Historical Society of South Carolina\, the Jewish Merchant Project ai
 ms to document the stories and lives of these merchants through a statewid
 e survey\, an online map showing the locations of stores\, illus...
DTSTART;TZID=America/New_York:20231109T190000
DTEND;TZID=America/New_York:20231109T200000
END:VEVENT
END:VCALENDAR
