BEGIN:VCALENDAR
PRODID:-//eluceo/ical//2.0/EN
VERSION:2.0
CALSCALE:GREGORIAN
BEGIN:VEVENT
UID:28feebed5e30a6f98e5db01beb35eb87
DTSTAMP:20260421T093130Z
SUMMARY:Lifelong Learning at KKBE
DESCRIPTION:Charleston Jewish Federation\nJewish Community Calendar\nhttps:
 //jewishcharleston.org/event-calendar/lifelong-learning-at-kkbe-1696431002
 \n\n“The Long Rise of the World’s Oldest Conspiracy Theory” with Tal
 ia LevinOnly on Zoom. Join Zoom Meeting: https://us06web.zoom.us/j/4538689
 645More information coming soon.
DTSTART;TZID=America/New_York:20231102T190000
DTEND;TZID=America/New_York:20231102T200000
END:VEVENT
END:VCALENDAR
