BEGIN:VCALENDAR
PRODID:-//eluceo/ical//2.0/EN
VERSION:2.0
CALSCALE:GREGORIAN
BEGIN:VEVENT
UID:4a239b1d42124289497e035e7d38973b
DTSTAMP:20260425T190854Z
SUMMARY:KKBE Sisterhood YES Fund Presents: A Trip to Montgomery\, Alabama
DESCRIPTION:Charleston Jewish Federation\nJewish Community Calendar\nhttps:
 //jewishcharleston.org/event-calendar/kkbe-sisterhood-yes-fund-presents-a-
 trip-to-montgomery-alabama-1675367746\n\nJoin Rabbi Stephanie Alexander\, 
 Steve Ziff\, and students as they reflect on their trip to the heartland o
 f the Civil Rights Movement. Rabbi Alexander’s presentation will help us
  understand ourselves as inheritors of the struggle to move from the wilde
 rness to the Promised Land of racial justice\, and inspire us to become ag
 ents of change on the continuing journey.This event takes place on Sunday\
 , February 26\, 2023 at 1:00pm at KKBE\, 90 Hasell Street\, Charleston\, S
 C. Refreshments will be serv...
DTSTART;TZID=America/New_York:20230226T130000
DTEND;TZID=America/New_York:20230226T150000
END:VEVENT
END:VCALENDAR
