BEGIN:VCALENDAR
PRODID:-//eluceo/ical//2.0/EN
VERSION:2.0
CALSCALE:GREGORIAN
BEGIN:VEVENT
UID:70afbf14931c0196a991b6ea743b99ce
DTSTAMP:20260425T212700Z
SUMMARY:KKBE Shabbat Morning Service including the Bat Mitzvah of Leila Top
 orek
DESCRIPTION:Charleston Jewish Federation\nJewish Community Calendar\nhttps:
 //jewishcharleston.org/event-calendar/kkbe-shabbat-morning-service-includi
 ng-the-bat-mitzvah-of-leila-toporek-1600885111\n\nKKBE Shabbat Morning Ser
 vice including the Bat Mitzvah of Leila Rose Toporek
DTSTART;TZID=America/New_York:20230415T100000
DTEND;TZID=America/New_York:20230415T120000
END:VEVENT
END:VCALENDAR
