BEGIN:VCALENDAR
PRODID:-//eluceo/ical//2.0/EN
VERSION:2.0
CALSCALE:GREGORIAN
BEGIN:VEVENT
UID:9f35c1c13b017ffe0b09833205cc5d4a
DTSTAMP:20260425T212707Z
SUMMARY:KKBE Shabbat Morning Service including the Bat Mitzvah of Erin Lee
DESCRIPTION:Charleston Jewish Federation\nJewish Community Calendar\nhttps:
 //jewishcharleston.org/event-calendar/kkbe-shabbat-morning-service-includi
 ng-the-bat-mitzvah-of-erin-lee-1600879772\n\nKKBE Shabbat Morning Service 
 including the Bat Mitzvah of Erin Lee
DTSTART;TZID=America/New_York:20230422T100000
DTEND;TZID=America/New_York:20230422T120000
END:VEVENT
END:VCALENDAR
