BEGIN:VCALENDAR
PRODID:-//eluceo/ical//2.0/EN
VERSION:2.0
CALSCALE:GREGORIAN
BEGIN:VEVENT
UID:3933be0268fc75f059b3dd1255251d9a
DTSTAMP:20260423T153614Z
SUMMARY:KKBE Shabbat Morning Service including the Bat Mitzvah of Chloe Fit
 zgerald
DESCRIPTION:Charleston Jewish Federation\nJewish Community Calendar\nhttps:
 //jewishcharleston.org/event-calendar/kkbe-shabbat-morning-service-includi
 ng-the-bat-mitzvah-of-chloe-fitzgerald-1600879975\n\nKKBE Shabbat Morning 
 Service including the Bat Mitzvah of Chloe Fitzgerald
DTSTART;TZID=America/New_York:20230610T100000
DTEND;TZID=America/New_York:20230610T120000
END:VEVENT
END:VCALENDAR
