BEGIN:VCALENDAR
PRODID:-//eluceo/ical//2.0/EN
VERSION:2.0
CALSCALE:GREGORIAN
BEGIN:VEVENT
UID:8ea656ab2328e6e7f80624f519fd9e3d
DTSTAMP:20260422T001350Z
SUMMARY:KKBE Shabbat Morning Service including the Bar Mitzvah of Ryan Swar
 tz
DESCRIPTION:Charleston Jewish Federation\nJewish Community Calendar\nhttps:
 //jewishcharleston.org/event-calendar/kkbe-shabbat-morning-service-includi
 ng-the-bar-mitzvah-of-ryan-swartz-1600880135\n\nKKBE Shabbat Morning Servi
 ce including the Bar Mitzvah of Ryan Swartz
DTSTART;TZID=America/New_York:20231118T100000
DTEND;TZID=America/New_York:20231118T120000
END:VEVENT
END:VCALENDAR
