BEGIN:VCALENDAR
PRODID:-//eluceo/ical//2.0/EN
VERSION:2.0
CALSCALE:GREGORIAN
BEGIN:VEVENT
UID:a9987cc71e6874020616f32e126cef26
DTSTAMP:20260424T164903Z
SUMMARY:KKBE Shabbat Morning Service celebrating the Bat Mitzvah of Micah J
 ohnson
DESCRIPTION:Charleston Jewish Federation\nJewish Community Calendar\nhttps:
 //jewishcharleston.org/event-calendar/kkbe-shabbat-morning-service-celebra
 ting-the-bat-mitzvah-of-micah-johnson-1628083707\n\nKKBE Shabbat Morning S
 ervice celebrating the Bat Mitzvah of Micah Johnson
DTSTART;TZID=America/New_York:20231202T100000
DTEND;TZID=America/New_York:20231202T120000
END:VEVENT
END:VCALENDAR
