BEGIN:VCALENDAR
PRODID:-//eluceo/ical//2.0/EN
VERSION:2.0
CALSCALE:GREGORIAN
BEGIN:VEVENT
UID:b46adfcb382aacf8878747364943b066
DTSTAMP:20260424T164847Z
SUMMARY:KKBE Shabbat Morning  celebrating the  Bat Mitzvah of Jacqueline Bo
 ssak
DESCRIPTION:Charleston Jewish Federation\nJewish Community Calendar\nhttps:
 //jewishcharleston.org/event-calendar/kkbe-shabbat-morning--celebrating-th
 e--bat-mitzvah-of-jacqueline-bossak-1630343514\n\nKKBE Shabbat Morning Ser
 vice celebrating the Bat Mitzvah of Jacqueline Bossak
DTSTART;TZID=America/New_York:20231209T100000
DTEND;TZID=America/New_York:20231209T120000
END:VEVENT
END:VCALENDAR
