BEGIN:VCALENDAR
PRODID:-//eluceo/ical//2.0/EN
VERSION:2.0
CALSCALE:GREGORIAN
BEGIN:VEVENT
UID:459a6bdf61d63eb184bf6d9067dadc1c
DTSTAMP:20260425T234514Z
SUMMARY:KKBE Mitzvah Day
DESCRIPTION:Charleston Jewish Federation\nJewish Community Calendar\nhttps:
 //jewishcharleston.org/event-calendar/kkbe-mitzvah-day-1680120007\n\nA dis
 tinguishing aspect of Judaism is that it is a religion of action. It’s n
 ot enough to simply have faith\; we are commanded to act on that faith - t
 o observe the commandments (mitzvot) and do good deeds. In that spirit\, w
 e are happy to be bringing Mitzvah Day back to KKBE. On Sunday\, 5/21\, we
  will gather as a community in the sanctuary and then take part in a varie
 ty of volunteer opportunities to pray with our feet and give back to our c
 ommunity. Please read the descriptions below and sel...
DTSTART;TZID=America/New_York:20230521T110000
DTEND;TZID=America/New_York:20230521T150000
END:VEVENT
END:VCALENDAR
