BEGIN:VCALENDAR
PRODID:-//eluceo/ical//2.0/EN
VERSION:2.0
CALSCALE:GREGORIAN
BEGIN:VEVENT
UID:e6b0623979735bb6b53b1285864f1158
DTSTAMP:20260420T235428Z
SUMMARY:KKBE Bat Mitzvah of Harper Grasmann
DESCRIPTION:Charleston Jewish Federation\nJewish Community Calendar\nhttps:
 //jewishcharleston.org/event-calendar/kkbe-bat-mitzvah-of-harper-grasmann-
 1746123077\n\nKKBE Bat Mitzvah of Harper Grasmann
DTSTART;TZID=America/New_York:20280520T100000
DTEND;TZID=America/New_York:20280520T120000
END:VEVENT
END:VCALENDAR
