BEGIN:VCALENDAR
PRODID:-//eluceo/ical//2.0/EN
VERSION:2.0
CALSCALE:GREGORIAN
BEGIN:VEVENT
UID:bff24c03e1adc9c001e0b53f893500a4
DTSTAMP:20260420T174208Z
SUMMARY:KKBE Bat Mitzvah Hazel Fordon
DESCRIPTION:Charleston Jewish Federation\nJewish Community Calendar\nhttps:
 //jewishcharleston.org/event-calendar/kkbe-bat-mitzvah-hazel-fordon-174775
 9832\n\nKKBE Shabbat Morning Service and the Bat Mitzvah Hazel Fordon
DTSTART;TZID=America/New_York:20280422T100000
DTEND;TZID=America/New_York:20280422T120000
END:VEVENT
END:VCALENDAR
