BEGIN:VCALENDAR
PRODID:-//eluceo/ical//2.0/EN
VERSION:2.0
CALSCALE:GREGORIAN
BEGIN:VEVENT
UID:1e48c02d1862380fb06a3c1d21a3f1c7
DTSTAMP:20260420T185555Z
SUMMARY:KKBE Bar Mitzvah of Judah Stone
DESCRIPTION:Charleston Jewish Federation\nJewish Community Calendar\nhttps:
 //jewishcharleston.org/event-calendar/kkbe-bar-mitzvah-of-judah-stone-1746
 122062\n\nKKBE Shabbat Morning Service and the Bar Mitzvah of Judah Stone
DTSTART;TZID=America/New_York:20280318T100000
DTEND;TZID=America/New_York:20280318T120000
END:VEVENT
END:VCALENDAR
