BEGIN:VCALENDAR
PRODID:-//eluceo/ical//2.0/EN
VERSION:2.0
CALSCALE:GREGORIAN
BEGIN:VEVENT
UID:f717abc07d4fc8436aa85395148b5f26
DTSTAMP:20260422T040057Z
SUMMARY:KKBE Bar Mitzvah of Elias Famulari
DESCRIPTION:Charleston Jewish Federation\nJewish Community Calendar\nhttps:
 //jewishcharleston.org/event-calendar/kkbe-bar-mitzvah-of-elias-famulari-1
 746123172\n\nKKBE Bar Mitzvah of Elias Famulari
DTSTART;TZID=America/New_York:20280617T100000
DTEND;TZID=America/New_York:20280617T120000
END:VEVENT
END:VCALENDAR
