BEGIN:VCALENDAR
PRODID:-//eluceo/ical//2.0/EN
VERSION:2.0
CALSCALE:GREGORIAN
BEGIN:VEVENT
UID:9e0811879af7578aa326b2326d8453a9
DTSTAMP:20260421T043637Z
SUMMARY:"Kinderland" Screening
DESCRIPTION:Charleston Jewish Federation\nJewish Community Calendar\nhttps:
 //jewishcharleston.org/event-calendar/kinderland-screening-1692638900\n\nC
 harleston Jewish Filmfest and KKBE Lifelong Learning present a screening o
 f "KINDERLAND."  This wonderful documentary chronicles the nearly 100 year
  history of two rival Jewish summer camps in upstate NY\, one was founded 
 by communist Jews and the other by socialist Jews\, both from the working 
 class immigrant Jewish community in New York City.
DTSTART;TZID=America/New_York:20231116T190000
DTEND;TZID=America/New_York:20231116T210000
END:VEVENT
END:VCALENDAR
