BEGIN:VCALENDAR
PRODID:-//eluceo/ical//2.0/EN
VERSION:2.0
CALSCALE:GREGORIAN
BEGIN:VEVENT
UID:7e0d3b4dc86f96ff35b47c1c9cfe23e0
DTSTAMP:20260421T044505Z
SUMMARY:Kabbalat Services at Synagogue Emanu-El
DESCRIPTION:Charleston Jewish Federation\nJewish Community Calendar\nhttps:
 //jewishcharleston.org/event-calendar/kabbalat-services-at-synagogue-emanu
 -el-1697659756\n\nKabbalat Services at Synagogue Emanu-El
DTSTART;TZID=America/New_York:20231110T180000
DTEND;TZID=America/New_York:20231110T193000
END:VEVENT
END:VCALENDAR
