BEGIN:VCALENDAR
PRODID:-//eluceo/ical//2.0/EN
VERSION:2.0
CALSCALE:GREGORIAN
BEGIN:VEVENT
UID:f1ee71588dee30653c075c5caba18160
DTSTAMP:20260426T001432Z
SUMMARY:Jonathan Greenblatt - ADL in Charleston
DESCRIPTION:Charleston Jewish Federation\nJewish Community Calendar\nhttps:
 //jewishcharleston.org/event-calendar/jonathan-greenblatt---adl-in-charles
 ton-1673472683\n\nJoin Charleston Jewish Federation and the ADL for this i
 nformative session with Jonathan Greenblatt\, ADL CEO
DTSTART;TZID=America/New_York:20230215T190000
DTEND;TZID=America/New_York:20230215T200000
END:VEVENT
END:VCALENDAR
