BEGIN:VCALENDAR
PRODID:-//eluceo/ical//2.0/EN
VERSION:2.0
CALSCALE:GREGORIAN
BEGIN:VEVENT
UID:4cb8d9bc4c08b9352a07ab40ff8252b9
DTSTAMP:20260424T033510Z
SUMMARY:Jewish Walking Tour of Charleston with YJC
DESCRIPTION:Charleston Jewish Federation\nJewish Community Calendar\nhttps:
 //jewishcharleston.org/event-calendar/jewish-walking-tour-of-charleston-wi
 th-yjc\n\nDid you know that May is Jewish American Heritage Month? During
  May 2023\, hundreds of organizations and Americans of all backgrounds are
  joining together to discover\, explore\, and celebrate the vibrant and va
 ried American Jewish experience from the dawn of our nation to the present
  day. \n\nJoin YJC on May 21st at 1:30 PM for a walking tour of Jewish C
 harleston with local tour guide\, Rhetta Mendelsohn. Afterward (around 4:0
 0 PM)\, we will take a rest and enjoy a drink at the Blind Tiger. G...
DTSTART;TZID=America/New_York:20230521T133000
DTEND;TZID=America/New_York:20230521T180000
END:VEVENT
END:VCALENDAR
