BEGIN:VCALENDAR
PRODID:-//eluceo/ical//2.0/EN
VERSION:2.0
CALSCALE:GREGORIAN
BEGIN:VEVENT
UID:73fa1b6bf0649e91b9436b8acce98649
DTSTAMP:20260423T204318Z
SUMMARY:Jewish Matchmaking  Viewing Party with YJC
DESCRIPTION:Charleston Jewish Federation\nJewish Community Calendar\nhttps:
 //jewishcharleston.org/event-calendar/jewish-matchmaking-viewing-party-wit
 h-yjc\n\nWe are excited to invite you to a fun-filled evening of food and 
 entertainment! Join us on May 10th at 6:30 PM at the Federation Office (17
 6 Croghan Spur\, Suite 100) for a delicious dinner (vegetarian) and watch 
 the popular Netflix series "Jewish Matchmaking" with other YJCers. View t
 he trailer here. \n\nThis FREE event will be a great opportunity to meet 
 new people\, enjoy delicious food\, and indulge in some quality entertai
 nment. Come and bond over shared experiences and laughter as we e...
DTSTART;TZID=America/New_York:20230510T183000
DTEND;TZID=America/New_York:20230510T203000
END:VEVENT
END:VCALENDAR
