BEGIN:VCALENDAR
PRODID:-//eluceo/ical//2.0/EN
VERSION:2.0
CALSCALE:GREGORIAN
BEGIN:VEVENT
UID:89a10565a7453d2c1a1519cfdccb4bb1
DTSTAMP:20260421T202136Z
SUMMARY:Jewish Connections (Wellmore of Daniel Island)
DESCRIPTION:Charleston Jewish Federation\nJewish Community Calendar\nhttps:
 //jewishcharleston.org/event-calendar/jewish-connections-wellmore-of-danie
 l-island-1679945063\n\nJewish Connections is a Jewish Family Services of G
 reater Charleston (JFS) program designed primarily for Jewish seniors. \n\
 nThe goal of Jewish Connections is to bring an educational and entertainin
 g program that will reinforce Jewish culture\, values\, holidays\, and his
 tory.
DTSTART;TZID=America/New_York:20230413T140000
DTEND;TZID=America/New_York:20230413T150000
END:VEVENT
END:VCALENDAR
