BEGIN:VCALENDAR
PRODID:-//eluceo/ical//2.0/EN
VERSION:2.0
CALSCALE:GREGORIAN
BEGIN:VEVENT
UID:79540222ff894f1b37be8d1f42ccaac8
DTSTAMP:20260421T103643Z
SUMMARY:Jewish Connections (The Palms of Mount Pleasant)
DESCRIPTION:Charleston Jewish Federation\nJewish Community Calendar\nhttps:
 //jewishcharleston.org/event-calendar/jewish-connections-the-palms-of-moun
 t-pleasant-1679945750\n\nJewish Connections is a Jewish Family Services of
  Greater Charleston (JFS) program designed primarily for Jewish seniors. \
 n\nThe goal of Jewish Connections is to bring an educational and entertain
 ing program that will reinforce Jewish culture\, values\, holidays\, and h
 istory.
DTSTART;TZID=America/New_York:20230420T140000
DTEND;TZID=America/New_York:20230420T150000
END:VEVENT
END:VCALENDAR
