BEGIN:VCALENDAR
PRODID:-//eluceo/ical//2.0/EN
VERSION:2.0
CALSCALE:GREGORIAN
BEGIN:VEVENT
UID:6034401d00246ce66bb122e99f68b53f
DTSTAMP:20260421T103648Z
SUMMARY:Jewish Connections (Indigo Hall in James Island)
DESCRIPTION:Charleston Jewish Federation\nJewish Community Calendar\nhttps:
 //jewishcharleston.org/event-calendar/jewish-connections-indigo-hall-in-ja
 mes-island-1679945330\n\nJewish Connections is a Jewish Family Services of
  Greater Charleston (JFS) program designed primarily for Jewish seniors. \
 n\nThe goal of Jewish Connections is to bring an educational and entertain
 ing program that will reinforce Jewish culture\, values\, holidays\, and h
 istory.
DTSTART;TZID=America/New_York:20230420T110000
DTEND;TZID=America/New_York:20230420T120000
END:VEVENT
END:VCALENDAR
