BEGIN:VCALENDAR
PRODID:-//eluceo/ical//2.0/EN
VERSION:2.0
CALSCALE:GREGORIAN
BEGIN:VEVENT
UID:2517947dafaed550a2f3f13d42b29041
DTSTAMP:20260421T100524Z
SUMMARY:Jewish Connections (Daniel Pointe Retirement Community)
DESCRIPTION:Charleston Jewish Federation\nJewish Community Calendar\nhttps:
 //jewishcharleston.org/event-calendar/jewish-connections-daniel-pointe-ret
 irement-community-1679946459\n\nJFS currently has programs in six differen
 t senior living residences in greater Charleston and is working to expand.
 \n\nEach program is one hour long and facilitated by our Jewish Community 
 Chaplain\, other rabbis in Charleston\, and volunteer leaders.  Light refr
 eshments are served.  There is no cost to attend.\n\nIf you have any quest
 ions\, please contact Talia Kutzen\, JFS Community Support Coordinator at 
 843-371-9901 or talia@CharlestonJFS.org.
DTSTART;TZID=America/New_York:20230427T110000
DTEND;TZID=America/New_York:20230427T120000
END:VEVENT
END:VCALENDAR
