BEGIN:VCALENDAR
PRODID:-//eluceo/ical//2.0/EN
VERSION:2.0
CALSCALE:GREGORIAN
BEGIN:VEVENT
UID:dddcdc29ffdaf71994e0ceff2c4f1723
DTSTAMP:20260422T081403Z
SUMMARY:Jewish Connection (Sherman House - West Ashley)
DESCRIPTION:Charleston Jewish Federation\nJewish Community Calendar\nhttps:
 //jewishcharleston.org/event-calendar/jewish-connection-sherman-house---we
 st-ashley-1679946206\n\nJFS currently has programs in six different senior
  living residences in greater Charleston and is working to expand.\n\nEach
  program is one hour long and facilitated by our Jewish Community Chaplain
 \, other rabbis in Charleston\, and volunteer leaders.  Light refreshments
  are served.  There is no cost to attend.\n\nIf you have any questions\, p
 lease contact Talia Kutzen\, JFS Community Support Coordinator at 843-371-
 9901 or talia@CharlestonJFS.org.
DTSTART;TZID=America/New_York:20230427T140000
DTEND;TZID=America/New_York:20230427T150000
END:VEVENT
END:VCALENDAR
