BEGIN:VCALENDAR
PRODID:-//eluceo/ical//2.0/EN
VERSION:2.0
CALSCALE:GREGORIAN
BEGIN:VEVENT
UID:43653057f9e7feb58372ce66e8b992fd
DTSTAMP:20260420T172313Z
SUMMARY:Jewish Community Sheriff's Candidate Forum
DESCRIPTION:Charleston Jewish Federation\nJewish Community Calendar\nhttps:
 //jewishcharleston.org/event-calendar/jewish-community-sheriffs-candidate-
 forum-1721221886\n\nJewish Community Sheriff&#039\;s Candidate Forum hoste
 d by Charleston Jewish Federation and League of Women Voters of the Charle
 ston Area
DTSTART;TZID=America/New_York:20240918T183000
DTEND;TZID=America/New_York:20240918T200000
END:VEVENT
END:VCALENDAR
