BEGIN:VCALENDAR
PRODID:-//eluceo/ical//2.0/EN
VERSION:2.0
CALSCALE:GREGORIAN
BEGIN:VEVENT
UID:2231f30f81229df28dd69e05bc4735a3
DTSTAMP:20260420T033451Z
SUMMARY:Innovative Tech for Change in Community Reconstruction in Northern 
 Israel
DESCRIPTION:Charleston Jewish Federation\nJewish Community Calendar\nhttps:
 //jewishcharleston.org/event-calendar/innovative-tech-for-change-in-commun
 ity-reconstruction-in-northern-israel\n\nRegister here
DTSTART;TZID=America/New_York:20240624T130000
DTEND;TZID=America/New_York:20240624T140000
END:VEVENT
END:VCALENDAR
