BEGIN:VCALENDAR
PRODID:-//eluceo/ical//2.0/EN
VERSION:2.0
CALSCALE:GREGORIAN
BEGIN:VEVENT
UID:d15b147a5f3c4527dd417adb595fecf9
DTSTAMP:20260424T181011Z
SUMMARY:Friday Night Dinner - Israel
DESCRIPTION:Charleston Jewish Federation\nJewish Community Calendar\nhttps:
 //jewishcharleston.org/event-calendar/friday-night-dinner---israel-1697557
 434\n\nNov 03\, 7:00 PM\nThe Gilston Social Hall\, Dor Tikvah\nJoin us for
  Shabbat dinner\, Singing & Praying for Israel.\nDinner will start at 7pm 
 (after Kabbalat Shabbat at 6:05pm)\nRegister by Monday\, October 30th at d
 ortikvah.org/fnd\nAdults: $30\nKids: $13\n3 & Under: Free\nFamilies: $65
DTSTART;TZID=America/New_York:20231103T190000
DTEND;TZID=America/New_York:20231103T203000
END:VEVENT
END:VCALENDAR
