BEGIN:VCALENDAR
PRODID:-//eluceo/ical//2.0/EN
VERSION:2.0
CALSCALE:GREGORIAN
BEGIN:VEVENT
UID:581ff25ed6ed83371c994cbca3c96fa9
DTSTAMP:20260421T202150Z
SUMMARY:Film Benefit for Israel at the Terrace
DESCRIPTION:Charleston Jewish Federation\nJewish Community Calendar\nhttps:
 //jewishcharleston.org/event-calendar/film-benefit-for-israel-at-the-terra
 ce-1697133400\n\nFilmmaker Yahav Winner was murdered whiile protecting his
  wife and child during the recent Hamas massacre. Proceeds from the screen
 ing of his recent award-winning film\, "The Boy" plus 3 other shorts will 
 be donated the the Charleston Jewish Federation Israel Emergency Fund as w
 ell as Winner&#039\;s widow and young child.Synopsis: Avinoam and Barak\, 
 father and son from a Kibbutz bordering the Gaza strip\, are forced to dea
 l with another round of rockets and combat\, each in their own way. One ni
 ght\, B...
DTSTART;TZID=America/New_York:20231024T190000
DTEND;TZID=America/New_York:20231024T210000
END:VEVENT
END:VCALENDAR
