BEGIN:VCALENDAR
PRODID:-//eluceo/ical//2.0/EN
VERSION:2.0
CALSCALE:GREGORIAN
BEGIN:VEVENT
UID:2391947d5173bf565c6c8b77fd4a1aa6
DTSTAMP:20260422T080150Z
SUMMARY:Escape to Siberia: A Holocaust Survivor’s Story
DESCRIPTION:Charleston Jewish Federation\nJewish Community Calendar\nhttps:
 //jewishcharleston.org/event-calendar/escape-to-siberia-a-holocaust-surviv
 ors-story-1696433934\n\nJoin CJF&#039\;s REMEMBER Program and CCPL for thi
 s program. Our very special speaker\, Mr. Harry Schneider\, speaks about h
 is childhood experiences as his family fled Poland to Siberia during the H
 olocaust. The short film\, Escape to Siberia\, will be shown.
DTSTART;TZID=America/New_York:20231016T143000
DTEND;TZID=America/New_York:20231016T170000
END:VEVENT
END:VCALENDAR
