BEGIN:VCALENDAR
PRODID:-//eluceo/ical//2.0/EN
VERSION:2.0
CALSCALE:GREGORIAN
BEGIN:VEVENT
UID:ff556a307b8b63106403bb9139cb401a
DTSTAMP:20260423T184636Z
SUMMARY:Emanu-El Sisterhood Shabbat
DESCRIPTION:Charleston Jewish Federation\nJewish Community Calendar\nhttps:
 //jewishcharleston.org/event-calendar/emanu-el-sisterhood-shabbat-16829605
 20\n\nAnnual Synagogue Emanu-El Sisterhood Shabbat service led entirely by
  women
DTSTART;TZID=America/New_York:20240120T093000
DTEND;TZID=America/New_York:20240120T123000
END:VEVENT
END:VCALENDAR
