BEGIN:VCALENDAR
PRODID:-//eluceo/ical//2.0/EN
VERSION:2.0
CALSCALE:GREGORIAN
BEGIN:VEVENT
UID:052b7f0c06cbc8030e695ca4a0a0a61d
DTSTAMP:20260420T004500Z
SUMMARY:Dor Tikvah Youth High School Topgolf
DESCRIPTION:Charleston Jewish Federation\nJewish Community Calendar\nhttps:
 //jewishcharleston.org/event-calendar/dor-tikvah-youth-high-school-topgolf
 -1704997778\n\nTopgolf & Pizza for $15 discounted rate! RSVP at dortikvah.
 org/topgolf
DTSTART;TZID=America/New_York:20240114T193000
DTEND;TZID=America/New_York:20240114T213000
END:VEVENT
END:VCALENDAR
