BEGIN:VCALENDAR
PRODID:-//eluceo/ical//2.0/EN
VERSION:2.0
CALSCALE:GREGORIAN
BEGIN:VEVENT
UID:f5060da06cfb48618e6252f6b1ee192c
DTSTAMP:20260421T070838Z
SUMMARY:Dor Tikvah Mikvah Campaign
DESCRIPTION:Charleston Jewish Federation\nJewish Community Calendar\nhttps:
 //jewishcharleston.org/event-calendar/dor-tikvah-mikvah-campaign-171655730
 7\n\nA 36-hour Mikvah crowdfunding campaign.
DTSTART;TZID=America/New_York:20240602T100000
DTEND;TZID=America/New_York:20240602T120000
END:VEVENT
END:VCALENDAR
