BEGIN:VCALENDAR
PRODID:-//eluceo/ical//2.0/EN
VERSION:2.0
CALSCALE:GREGORIAN
BEGIN:VEVENT
UID:53f8e9123ca420f5e1de8580fd7452b1
DTSTAMP:20260423T235209Z
SUMMARY:Dor Tikvah Congregational Meeting
DESCRIPTION:Charleston Jewish Federation\nJewish Community Calendar\nhttps:
 //jewishcharleston.org/event-calendar/dor-tikvah-congregational-meeting-16
 81743409\n\nDor Tikvah&#039\;s quarterly congregational meeting. Members m
 ay access details at dortikvah.org.
DTSTART;TZID=America/New_York:20230521T173000
DTEND;TZID=America/New_York:20230521T190000
END:VEVENT
END:VCALENDAR
