BEGIN:VCALENDAR
PRODID:-//eluceo/ical//2.0/EN
VERSION:2.0
CALSCALE:GREGORIAN
BEGIN:VEVENT
UID:9cbe0bc504b5bf591d027cbb98e0c196
DTSTAMP:20260425T145321Z
SUMMARY:Dolbir B'nai Mitzvah at Synagogue Emanu-El
DESCRIPTION:Charleston Jewish Federation\nJewish Community Calendar\nhttps:
 //jewishcharleston.org/event-calendar/dolbir-bnai-mitzvah-at-synagogue-ema
 nu-el-1633374917\n\nDolbir B&#039\;nai Mitzvah at Synagogue Emanu-El
DTSTART;TZID=America/New_York:20230204T093000
DTEND;TZID=America/New_York:20230204T130000
END:VEVENT
END:VCALENDAR
