BEGIN:VCALENDAR
PRODID:-//eluceo/ical//2.0/EN
VERSION:2.0
CALSCALE:GREGORIAN
BEGIN:VEVENT
UID:7d7f37b7567cd98d24176d189b4a4b37
DTSTAMP:20260420T033244Z
SUMMARY:Creative Arts and Literature Competition
DESCRIPTION:Charleston Jewish Federation\nJewish Community Calendar\nhttps:
 //jewishcharleston.org/event-calendar/creative-arts-and-literature-competi
 tion-1696434212\n\nWe are excited to announce that middle school and high 
 school-aged students have the opportunity to participate in the 2023 Creat
 ive Arts and Literature Competition.  This year&#039\;s theme\, "?????????
  ??????: ??? ?????? ?? ?????????????" explores the historical significance
  of Kristallnacht\, also known as the Night of Broken Glass.  ??????????? 
 ???: ???????? ?\, ????
DTSTART;TZID=America/New_York:20231004T000000
DTEND;TZID=America/New_York:20231201T120000
END:VEVENT
END:VCALENDAR
