BEGIN:VCALENDAR
PRODID:-//eluceo/ical//2.0/EN
VERSION:2.0
CALSCALE:GREGORIAN
BEGIN:VEVENT
UID:b531738852526f39c299ab15b3808746
DTSTAMP:20260425T031639Z
SUMMARY:Community Wide Israel Independence Day Celebration
DESCRIPTION:Charleston Jewish Federation\nJewish Community Calendar\nhttps:
 //jewishcharleston.org/event-calendar/community-wide-israel-independence-d
 ay-celebration\n\nCelebrate Israel Independence Day with the entire Charle
 ston Jewish community at James Island County Park\, Edisto Hall for a fun 
 outdoor BBQ with music\, burgers\, hotdogs\, shawarma\, and falafel. With 
 jump castles\, face painting\, and other activities for kids! \n\n \n\n$2
  park entry\n\n \n\nKosher BBQ\n\n 
DTSTART;TZID=America/New_York:20230426T160000
DTEND;TZID=America/New_York:20230426T210000
END:VEVENT
END:VCALENDAR
