BEGIN:VCALENDAR
PRODID:-//eluceo/ical//2.0/EN
VERSION:2.0
CALSCALE:GREGORIAN
BEGIN:VEVENT
UID:15cb98464cc5ab7dd1a9700fa90647b4
DTSTAMP:20260420T204226Z
SUMMARY:Community Purim Festival Hosted by KKBE
DESCRIPTION:Charleston Jewish Federation\nJewish Community Calendar\nhttps:
 //jewishcharleston.org/event-calendar/community-purim-festival-hosted-by-k
 kbe-1695306841\n\nAs part of KKBE’s 275th Anniversary celebrations and t
 hanks to generous funding from the Saul Alexander Foundation\, we are exci
 ted to be hosting and thrilled to invite the entire community to attend Ch
 arleston’s grandest Purim carnival to date: Purim Family Fun Day\, March
  24th\, 2024 from 12:00-4:00PM at The Bend in North Charleston.\n\n \n\nK
 KBE at 275 is a milestone for our congregation\, but also an important opp
 ortunity to celebrate the strength of Jewish institutional life in the Low
 c...
DTSTART;TZID=America/New_York:20240324T123000
DTEND;TZID=America/New_York:20240324T163000
END:VEVENT
END:VCALENDAR
