BEGIN:VCALENDAR
PRODID:-//eluceo/ical//2.0/EN
VERSION:2.0
CALSCALE:GREGORIAN
BEGIN:VEVENT
UID:3b55a97f891f2806c0da726c49c9d383
DTSTAMP:20260423T144053Z
SUMMARY:Community Grief Support Group
DESCRIPTION:Charleston Jewish Federation\nJewish Community Calendar\nhttps:
 //jewishcharleston.org/event-calendar/community-grief-support-group-168874
 7882\n\nJewish Family Services of Greater Charleston is providing a safe\,
  non-judgmental\, and nurturing grief support group for anyone experiencin
 g grief\, regardless of where you are on your journey.Facilitated by Rabbi
  Aaron Sherman\, Jewish Community Chaplain.Where: Synagogue Emanu-El Libra
 ry 5 Windsor Drive Charleston\, SC 29407
DTSTART;TZID=America/New_York:20230725T130000
DTEND;TZID=America/New_York:20230725T130000
END:VEVENT
END:VCALENDAR
