BEGIN:VCALENDAR
PRODID:-//eluceo/ical//2.0/EN
VERSION:2.0
CALSCALE:GREGORIAN
BEGIN:VEVENT
UID:eca1ac9ee95019c87078d5b5a7647407
DTSTAMP:20260420T014503Z
SUMMARY:Community Chanukah Fair
DESCRIPTION:Charleston Jewish Federation\nJewish Community Calendar\nhttps:
 //jewishcharleston.org/event-calendar/community-chanukah-fair-1690904135\n
 \nJoin Addlestone Hebrew Academy for our annual Chanukah Fair\, where chil
 dren of all ages can experience Chanukah through a variety of educational 
 and fun activities! The event is free and open to the public (pre-registra
 tion required). Refreshments available for purchase.
DTSTART;TZID=America/New_York:20231203T150000
DTEND;TZID=America/New_York:20231203T170000
END:VEVENT
END:VCALENDAR
